BEGIN:VCALENDAR
VERSION:2.0
PRODID:-//eventon.com NONSGML v1.0//EN
CALSCALE:GREGORIAN
METHOD:PUBLISH
BEGIN:VEVENT
UID:69e8d81c0c736
DTSTAMP:20260422T151556
DTSTART:20200912
DTEND:20200913
TZID:UTC
LOCATION:
SUMMARY:x cross lake
DESCRIPTION:Der x cross run macht Station am größten europäischen Steppensee Europas! Die Region rund um den Neusiedlersee / Burgenland  ist ein einzigartiges Naturparadies mit mehr als 2000 Sonnenstunden im Jahr. Das nicht nur bei Wassersportlern beliebte Podersdorf bietet perfekte Voraussetzungen für eine ultimative cross Challenge mit viel Fun im Wasser[..]\nhttps://www.laufnews.at/events/x-cross-lake/
URL:https://www.laufnews.at/events/x-cross-lake/
END:VEVENT
END:VCALENDAR