BEGIN:VCALENDAR
VERSION:2.0
PRODID:-//eventon.com NONSGML v1.0//EN
CALSCALE:GREGORIAN
METHOD:PUBLISH
BEGIN:VEVENT
UID:69e76a157de60
DTSTAMP:20260421T131413
DTSTART:20200620
DTEND:20200621
TZID:UTC
LOCATION:
SUMMARY:Mozart100
DESCRIPTION:Der Ultrapanoramalauf zwischen der Stadt Salzburg und der Fuschlseeregion wird als einer der attraktivsten Läufe Mitteleuropas bezeichnet. Die Reize der Altstadt von Salzburg werden kombiniert mit den landschaftlichen Highlights der Region rund um dem Fuschlsee. Das Highlight ist der 100km-Lauf bei dem man nach zwei Runden am Mozartplatz ins Ziel einläuft.\nhttps://www.laufnews.at/events/mozart100/
URL:https://www.laufnews.at/events/mozart100/
END:VEVENT
END:VCALENDAR